Package: quantro Version: 1.40.0 Command: /Library/Frameworks/R.framework/Resources/bin/R CMD INSTALL quantro StartedAt: 2025-02-03 16:43:06 -0500 (Mon, 03 Feb 2025) EndedAt: 2025-02-03 16:44:43 -0500 (Mon, 03 Feb 2025) EllapsedTime: 96.7 seconds RetCode: 0 Status: OK