Package: quantro Version: 1.40.0 Command: /home/biocbuild/bbs-3.20-bioc/R/bin/R CMD build --keep-empty-dirs --no-resave-data --md5 quantro StartedAt: 2025-02-03 18:51:02 -0500 (Mon, 03 Feb 2025) EndedAt: 2025-02-03 18:52:36 -0500 (Mon, 03 Feb 2025) EllapsedTime: 94.1 seconds RetCode: 0 Status: OK PackageFile: quantro_1.40.0.tar.gz PackageFileSize: 2.766 MiB