Package: quantro
Version: 1.40.0
Command: rm -rf quantro.buildbin-libdir && mkdir quantro.buildbin-libdir && F:\biocbuild\bbs-3.20-bioc\R\bin\R.exe CMD INSTALL --build --library=quantro.buildbin-libdir quantro_1.40.0.tar.gz
StartedAt: 2025-02-18 08:50:23 -0500 (Tue, 18 Feb 2025)
EndedAt: 2025-02-18 08:51:34 -0500 (Tue, 18 Feb 2025)
EllapsedTime: 70.8 seconds
RetCode: 0
Status: OK
PackageFile: quantro_1.40.0.zip
PackageFileSize: 2.866 <A href="http://en.wikipedia.org/wiki/MiB" target="_blank">MiB</A>