Package: quantro Version: 1.40.0 Command: F:\biocbuild\bbs-3.20-bioc\R\bin\R.exe CMD INSTALL quantro StartedAt: 2025-02-03 17:12:44 -0500 (Mon, 03 Feb 2025) EndedAt: 2025-02-03 17:13:40 -0500 (Mon, 03 Feb 2025) EllapsedTime: 56.4 seconds RetCode: 0 Status: OK