Package: quantro Version: 1.40.0 Command: /home/biocbuild/R/R/bin/R CMD check --install=check:quantro.install-out.txt --library=/home/biocbuild/R/R/site-library --no-vignettes --timings quantro_1.40.0.tar.gz StartedAt: 2025-02-04 10:08:53 -0000 (Tue, 04 Feb 2025) EndedAt: 2025-02-04 10:15:20 -0000 (Tue, 04 Feb 2025) EllapsedTime: 387.6 seconds RetCode: 0 Status: OK CheckDir: quantro.Rcheck Warnings: 0