Package: quantro Version: 1.40.0 Command: /home/biocbuild/R/R/bin/R CMD INSTALL quantro StartedAt: 2025-02-03 21:19:54 -0000 (Mon, 03 Feb 2025) EndedAt: 2025-02-03 21:20:51 -0000 (Mon, 03 Feb 2025) EllapsedTime: 57.6 seconds RetCode: 0 Status: OK