Package: quantsmooth Version: 1.72.0 Command: /Library/Frameworks/R.framework/Resources/bin/R CMD check --install=check:quantsmooth.install-out.txt --library=/Library/Frameworks/R.framework/Resources/library --no-vignettes --timings quantsmooth_1.72.0.tar.gz StartedAt: 2025-02-14 08:57:15 -0500 (Fri, 14 Feb 2025) EndedAt: 2025-02-14 09:01:18 -0500 (Fri, 14 Feb 2025) EllapsedTime: 242.4 seconds RetCode: 0 Status: OK CheckDir: quantsmooth.Rcheck Warnings: 0