Package: quantsmooth
Version: 1.71.0
Command: C:\Users\biocbuild\bbs-3.20-bioc\R\bin\R.exe CMD INSTALL quantsmooth
StartedAt: 2024-07-15 16:01:41 -0400 (Mon, 15 Jul 2024)
EndedAt: 2024-07-15 16:01:51 -0400 (Mon, 15 Jul 2024)
EllapsedTime: 9.9 seconds
RetCode: 0
Status: OK