Package: qusage Version: 2.40.0 Command: rm -rf qusage.buildbin-libdir && mkdir qusage.buildbin-libdir && /Users/biocbuild/BBS/utils/build-universal.sh qusage_2.40.0.tar.gz /Library/Frameworks/R.framework/Resources/bin/R qusage.buildbin-libdir StartedAt: 2025-02-01 16:20:27 -0500 (Sat, 01 Feb 2025) EndedAt: 2025-02-01 16:20:40 -0500 (Sat, 01 Feb 2025) EllapsedTime: 13.4 seconds RetCode: 0 Status: OK PackageFile: qusage_2.40.0.tgz PackageFileSize: 9.83 MiB