Package: qusage Version: 2.40.0 Command: /Library/Frameworks/R.framework/Resources/bin/R CMD build --keep-empty-dirs --no-resave-data qusage StartedAt: 2025-01-31 05:54:02 -0500 (Fri, 31 Jan 2025) EndedAt: 2025-01-31 06:01:35 -0500 (Fri, 31 Jan 2025) EllapsedTime: 452.6 seconds RetCode: 0 Status: OK PackageFile: qusage_2.40.0.tar.gz PackageFileSize: 9.67 MiB