Package: qusage Version: 2.40.0 Command: /Library/Frameworks/R.framework/Resources/bin/R CMD check --install=check:qusage.install-out.txt --library=/Library/Frameworks/R.framework/Resources/library --no-vignettes --timings qusage_2.40.0.tar.gz StartedAt: 2025-02-01 05:47:16 -0500 (Sat, 01 Feb 2025) EndedAt: 2025-02-01 05:48:52 -0500 (Sat, 01 Feb 2025) EllapsedTime: 95.3 seconds RetCode: 0 Status: OK CheckDir: qusage.Rcheck Warnings: 0