Package: qusage Version: 2.40.0 Command: /Library/Frameworks/R.framework/Resources/bin/R CMD INSTALL qusage StartedAt: 2025-01-30 15:18:36 -0500 (Thu, 30 Jan 2025) EndedAt: 2025-01-30 15:18:47 -0500 (Thu, 30 Jan 2025) EllapsedTime: 11.2 seconds RetCode: 0 Status: OK