Package: qusage Version: 2.40.0 Command: /Library/Frameworks/R.framework/Resources/bin/R CMD build --keep-empty-dirs --no-resave-data qusage StartedAt: 2025-02-03 21:30:27 -0500 (Mon, 03 Feb 2025) EndedAt: 2025-02-03 21:41:41 -0500 (Mon, 03 Feb 2025) EllapsedTime: 674.3 seconds RetCode: 0 Status: OK PackageFile: qusage_2.40.0.tar.gz PackageFileSize: 9.67 MiB