Package: qusage Version: 2.40.0 Command: /Library/Frameworks/R.framework/Resources/bin/R CMD check --install=check:qusage.install-out.txt --library=/Library/Frameworks/R.framework/Resources/library --no-vignettes --timings qusage_2.40.0.tar.gz StartedAt: 2025-02-04 08:29:46 -0500 (Tue, 04 Feb 2025) EndedAt: 2025-02-04 08:32:59 -0500 (Tue, 04 Feb 2025) EllapsedTime: 192.9 seconds RetCode: 0 Status: OK CheckDir: qusage.Rcheck Warnings: 0