Package: qusage Version: 2.40.0 Command: /home/biocbuild/bbs-3.20-bioc/R/bin/R CMD check --install=check:qusage.install-out.txt --library=/home/biocbuild/bbs-3.20-bioc/R/site-library --timings qusage_2.40.0.tar.gz StartedAt: 2025-02-04 01:32:13 -0500 (Tue, 04 Feb 2025) EndedAt: 2025-02-04 01:38:11 -0500 (Tue, 04 Feb 2025) EllapsedTime: 358.5 seconds RetCode: 0 Status: OK CheckDir: qusage.Rcheck Warnings: 0