Package: qusage Version: 2.40.0 Command: /home/biocbuild/R/R/bin/R CMD check --install=check:qusage.install-out.txt --library=/home/biocbuild/R/R/site-library --no-vignettes --timings qusage_2.40.0.tar.gz StartedAt: 2025-02-04 10:10:15 -0000 (Tue, 04 Feb 2025) EndedAt: 2025-02-04 10:11:57 -0000 (Tue, 04 Feb 2025) EllapsedTime: 102.1 seconds RetCode: 0 Status: OK CheckDir: qusage.Rcheck Warnings: 0