Package: qvalue Version: 2.38.0 Command: /Library/Frameworks/R.framework/Resources/bin/R CMD build --keep-empty-dirs --no-resave-data qvalue StartedAt: 2025-02-04 06:04:34 -0500 (Tue, 04 Feb 2025) EndedAt: 2025-02-04 06:04:55 -0500 (Tue, 04 Feb 2025) EllapsedTime: 20.6 seconds RetCode: 0 Status: OK PackageFile: qvalue_2.38.0.tar.gz PackageFileSize: 2.646 MiB