Package: qvalue Version: 2.38.0 Command: /Library/Frameworks/R.framework/Resources/bin/R CMD check --install=check:qvalue.install-out.txt --library=/Library/Frameworks/R.framework/Resources/library --no-vignettes --timings qvalue_2.38.0.tar.gz StartedAt: 2025-02-05 06:34:25 -0500 (Wed, 05 Feb 2025) EndedAt: 2025-02-05 06:35:11 -0500 (Wed, 05 Feb 2025) EllapsedTime: 46.6 seconds RetCode: 0 Status: OK CheckDir: qvalue.Rcheck Warnings: 0