Package: qvalue Version: 2.38.0 Command: /Library/Frameworks/R.framework/Resources/bin/R CMD INSTALL qvalue StartedAt: 2025-02-03 15:38:10 -0500 (Mon, 03 Feb 2025) EndedAt: 2025-02-03 15:38:14 -0500 (Mon, 03 Feb 2025) EllapsedTime: 3.4 seconds RetCode: 0 Status: OK