Package: qvalue Version: 2.38.0 Command: /home/biocbuild/bbs-3.20-bioc/R/bin/R CMD check --install=check:qvalue.install-out.txt --library=/home/biocbuild/bbs-3.20-bioc/R/site-library --timings qvalue_2.38.0.tar.gz StartedAt: 2025-02-04 01:32:16 -0500 (Tue, 04 Feb 2025) EndedAt: 2025-02-04 01:32:57 -0500 (Tue, 04 Feb 2025) EllapsedTime: 41.0 seconds RetCode: 0 Status: OK CheckDir: qvalue.Rcheck Warnings: 0