Package: qvalue Version: 2.38.0 Command: /home/biocbuild/bbs-3.20-bioc/R/bin/R CMD INSTALL qvalue StartedAt: 2025-02-03 15:23:56 -0500 (Mon, 03 Feb 2025) EndedAt: 2025-02-03 15:24:02 -0500 (Mon, 03 Feb 2025) EllapsedTime: 6.4 seconds RetCode: 0 Status: OK