Package: qvalue Version: 2.38.0 Command: F:\biocbuild\bbs-3.20-bioc\R\bin\R.exe CMD check --no-multiarch --install=check:qvalue.install-out.txt --library=F:\biocbuild\bbs-3.20-bioc\R\library --no-vignettes --timings qvalue_2.38.0.tar.gz StartedAt: 2025-02-04 05:14:39 -0500 (Tue, 04 Feb 2025) EndedAt: 2025-02-04 05:15:35 -0500 (Tue, 04 Feb 2025) EllapsedTime: 56.1 seconds RetCode: 0 Status: OK CheckDir: qvalue.Rcheck Warnings: 0