Package: qvalue
Version: 2.38.0
Command: F:\biocbuild\bbs-3.20-bioc\R\bin\R.exe CMD INSTALL qvalue
StartedAt: 2025-02-17 15:34:17 -0500 (Mon, 17 Feb 2025)
EndedAt: 2025-02-17 15:34:27 -0500 (Mon, 17 Feb 2025)
EllapsedTime: 10.3 seconds
RetCode: 0
Status: OK