Package: r3Cseq Version: 1.52.0 Command: /Library/Frameworks/R.framework/Resources/bin/R CMD INSTALL r3Cseq StartedAt: 2025-01-30 16:00:09 -0500 (Thu, 30 Jan 2025) EndedAt: 2025-01-30 16:00:57 -0500 (Thu, 30 Jan 2025) EllapsedTime: 47.8 seconds RetCode: 0 Status: OK