Package: r3Cseq Version: 1.52.0 Command: rm -rf r3Cseq.buildbin-libdir && mkdir r3Cseq.buildbin-libdir && /Users/biocbuild/BBS/utils/build-universal.sh r3Cseq_1.52.0.tar.gz /Library/Frameworks/R.framework/Resources/bin/R r3Cseq.buildbin-libdir StartedAt: 2025-01-31 13:27:05 -0500 (Fri, 31 Jan 2025) EndedAt: 2025-01-31 13:28:43 -0500 (Fri, 31 Jan 2025) EllapsedTime: 97.6 seconds RetCode: 0 Status: OK PackageFile: r3Cseq_1.52.0.tgz PackageFileSize: 2.945 MiB