Package: r3Cseq Version: 1.52.0 Command: /Library/Frameworks/R.framework/Resources/bin/R CMD build --keep-empty-dirs --no-resave-data r3Cseq StartedAt: 2025-01-30 22:03:32 -0500 (Thu, 30 Jan 2025) EndedAt: 2025-01-30 22:07:17 -0500 (Thu, 30 Jan 2025) EllapsedTime: 225.1 seconds RetCode: 0 Status: OK PackageFile: r3Cseq_1.52.0.tar.gz PackageFileSize: 4.327 MiB