Package: r3Cseq Version: 1.52.0 Command: /Library/Frameworks/R.framework/Resources/bin/R CMD check --install=check:r3Cseq.install-out.txt --library=/Library/Frameworks/R.framework/Resources/library --no-vignettes --timings r3Cseq_1.52.0.tar.gz StartedAt: 2025-01-31 08:33:03 -0500 (Fri, 31 Jan 2025) EndedAt: 2025-01-31 08:41:35 -0500 (Fri, 31 Jan 2025) EllapsedTime: 512.6 seconds RetCode: 0 Status: OK CheckDir: r3Cseq.Rcheck Warnings: 0