Package: r3Cseq Version: 1.52.0 Command: /Library/Frameworks/R.framework/Resources/bin/R CMD INSTALL r3Cseq StartedAt: 2025-01-30 15:36:16 -0500 (Thu, 30 Jan 2025) EndedAt: 2025-01-30 15:37:51 -0500 (Thu, 30 Jan 2025) EllapsedTime: 95.0 seconds RetCode: 0 Status: OK