Package: r3Cseq Version: 1.52.0 Command: /home/biocbuild/bbs-3.20-bioc/R/bin/R CMD build --keep-empty-dirs --no-resave-data --md5 r3Cseq StartedAt: 2025-01-30 18:42:03 -0500 (Thu, 30 Jan 2025) EndedAt: 2025-01-30 18:44:11 -0500 (Thu, 30 Jan 2025) EllapsedTime: 128.2 seconds RetCode: 0 Status: OK PackageFile: r3Cseq_1.52.0.tar.gz PackageFileSize: 4.33 MiB