Package: r3Cseq Version: 1.52.0 Command: /home/biocbuild/R/R/bin/R CMD build --keep-empty-dirs --no-resave-data r3Cseq StartedAt: 2025-02-04 02:03:09 -0000 (Tue, 04 Feb 2025) EndedAt: 2025-02-04 02:05:23 -0000 (Tue, 04 Feb 2025) EllapsedTime: 134.1 seconds RetCode: 0 Status: OK PackageFile: r3Cseq_1.52.0.tar.gz PackageFileSize: 4.318 MiB