Package: r3Cseq Version: 1.52.0 Command: /home/biocbuild/R/R/bin/R CMD check --install=check:r3Cseq.install-out.txt --library=/home/biocbuild/R/R/site-library --no-vignettes --timings r3Cseq_1.52.0.tar.gz StartedAt: 2025-02-04 10:10:51 -0000 (Tue, 04 Feb 2025) EndedAt: 2025-02-04 10:15:46 -0000 (Tue, 04 Feb 2025) EllapsedTime: 294.6 seconds RetCode: 0 Status: OK CheckDir: r3Cseq.Rcheck Warnings: 0