Package: r3Cseq Version: 1.52.0 Command: /home/biocbuild/R/R/bin/R CMD INSTALL r3Cseq StartedAt: 2025-02-03 20:40:03 -0000 (Mon, 03 Feb 2025) EndedAt: 2025-02-03 20:40:59 -0000 (Mon, 03 Feb 2025) EllapsedTime: 56.3 seconds RetCode: 0 Status: OK