Package: rBLAST Version: 1.2.0 Command: /Library/Frameworks/R.framework/Resources/bin/R CMD build --keep-empty-dirs --no-resave-data rBLAST StartedAt: 2025-02-04 06:17:08 -0500 (Tue, 04 Feb 2025) EndedAt: 2025-02-04 06:17:27 -0500 (Tue, 04 Feb 2025) EllapsedTime: 19.3 seconds RetCode: 0 Status: OK PackageFile: rBLAST_1.2.0.tar.gz PackageFileSize: 24.53 KiB