Package: rBLAST Version: 1.2.0 Command: /Library/Frameworks/R.framework/Resources/bin/R CMD build --keep-empty-dirs --no-resave-data rBLAST StartedAt: 2025-02-03 21:33:43 -0500 (Mon, 03 Feb 2025) EndedAt: 2025-02-03 21:34:16 -0500 (Mon, 03 Feb 2025) EllapsedTime: 32.7 seconds RetCode: 0 Status: OK PackageFile: rBLAST_1.2.0.tar.gz PackageFileSize: 24.59 KiB