Package: rBLAST Version: 1.2.0 Command: /Library/Frameworks/R.framework/Resources/bin/R CMD INSTALL rBLAST StartedAt: 2025-02-03 15:32:36 -0500 (Mon, 03 Feb 2025) EndedAt: 2025-02-03 15:33:00 -0500 (Mon, 03 Feb 2025) EllapsedTime: 23.6 seconds RetCode: 0 Status: OK