Package: rBLAST Version: 1.2.0 Command: /home/biocbuild/R/R/bin/R CMD build --keep-empty-dirs --no-resave-data rBLAST StartedAt: 2025-02-04 02:06:15 -0000 (Tue, 04 Feb 2025) EndedAt: 2025-02-04 02:06:32 -0000 (Tue, 04 Feb 2025) EllapsedTime: 17.0 seconds RetCode: 0 Status: OK PackageFile: rBLAST_1.2.0.tar.gz PackageFileSize: 25.43 KiB