Package: rBLAST Version: 1.2.0 Command: /home/biocbuild/R/R/bin/R CMD INSTALL rBLAST StartedAt: 2025-02-03 20:35:18 -0000 (Mon, 03 Feb 2025) EndedAt: 2025-02-03 20:35:32 -0000 (Mon, 03 Feb 2025) EllapsedTime: 13.9 seconds RetCode: 0 Status: OK