Package: rBiopaxParser Version: 2.46.0 Command: rm -rf rBiopaxParser.buildbin-libdir && mkdir rBiopaxParser.buildbin-libdir && /Users/biocbuild/BBS/utils/build-universal.sh rBiopaxParser_2.46.0.tar.gz /Library/Frameworks/R.framework/Resources/bin/R rBiopaxParser.buildbin-libdir StartedAt: 2025-02-04 13:55:07 -0500 (Tue, 04 Feb 2025) EndedAt: 2025-02-04 13:55:31 -0500 (Tue, 04 Feb 2025) EllapsedTime: 24.1 seconds RetCode: 0 Status: OK PackageFile: rBiopaxParser_2.46.0.tgz PackageFileSize: 858.3 KiB