Package: rBiopaxParser Version: 2.46.0 Command: /Library/Frameworks/R.framework/Resources/bin/R CMD build --keep-empty-dirs --no-resave-data rBiopaxParser StartedAt: 2025-02-03 21:33:20 -0500 (Mon, 03 Feb 2025) EndedAt: 2025-02-03 21:33:43 -0500 (Mon, 03 Feb 2025) EllapsedTime: 22.8 seconds RetCode: 0 Status: OK PackageFile: rBiopaxParser_2.46.0.tar.gz PackageFileSize: 897.5 KiB