Package: rBiopaxParser Version: 2.46.0 Command: rm -rf rBiopaxParser.buildbin-libdir && mkdir rBiopaxParser.buildbin-libdir && F:\biocbuild\bbs-3.20-bioc\R\bin\R.exe CMD INSTALL --build --library=rBiopaxParser.buildbin-libdir rBiopaxParser_2.46.0.tar.gz StartedAt: 2025-02-04 09:16:53 -0500 (Tue, 04 Feb 2025) EndedAt: 2025-02-04 09:18:16 -0500 (Tue, 04 Feb 2025) EllapsedTime: 83.6 seconds RetCode: 0 Status: OK PackageFile: rBiopaxParser_2.46.0.zip PackageFileSize: 737.9 KiB