Package: rCGH Version: 1.36.0 Command: /Library/Frameworks/R.framework/Resources/bin/R CMD INSTALL rCGH StartedAt: 2025-02-03 17:23:26 -0500 (Mon, 03 Feb 2025) EndedAt: 2025-02-03 17:24:20 -0500 (Mon, 03 Feb 2025) EllapsedTime: 54.3 seconds RetCode: 0 Status: OK