Package: rCGH Version: 1.36.0 Command: /Library/Frameworks/R.framework/Resources/bin/R CMD build --keep-empty-dirs --no-resave-data rCGH StartedAt: 2025-02-03 21:34:52 -0500 (Mon, 03 Feb 2025) EndedAt: 2025-02-03 21:37:59 -0500 (Mon, 03 Feb 2025) EllapsedTime: 186.4 seconds RetCode: 0 Status: OK PackageFile: rCGH_1.36.0.tar.gz PackageFileSize: 3.784 MiB