Package: rCGH Version: 1.36.0 Command: /Library/Frameworks/R.framework/Resources/bin/R CMD INSTALL rCGH StartedAt: 2025-02-03 16:26:09 -0500 (Mon, 03 Feb 2025) EndedAt: 2025-02-03 16:27:43 -0500 (Mon, 03 Feb 2025) EllapsedTime: 94.5 seconds RetCode: 0 Status: OK