Package: rCGH Version: 1.36.0 Command: /home/biocbuild/bbs-3.20-bioc/R/bin/R CMD build --keep-empty-dirs --no-resave-data --md5 rCGH StartedAt: 2025-02-03 18:54:24 -0500 (Mon, 03 Feb 2025) EndedAt: 2025-02-03 18:55:47 -0500 (Mon, 03 Feb 2025) EllapsedTime: 83.1 seconds RetCode: 0 Status: OK PackageFile: rCGH_1.36.0.tar.gz PackageFileSize: 4.035 MiB