Package: rCGH Version: 1.36.0 Command: /home/biocbuild/bbs-3.20-bioc/R/bin/R CMD INSTALL rCGH StartedAt: 2025-02-03 15:54:59 -0500 (Mon, 03 Feb 2025) EndedAt: 2025-02-03 15:55:47 -0500 (Mon, 03 Feb 2025) EllapsedTime: 48.7 seconds RetCode: 0 Status: OK