Package: rCGH Version: 1.36.0 Command: rm -rf rCGH.buildbin-libdir && mkdir rCGH.buildbin-libdir && F:\biocbuild\bbs-3.20-bioc\R\bin\R.exe CMD INSTALL --build --library=rCGH.buildbin-libdir rCGH_1.36.0.tar.gz StartedAt: 2025-02-18 08:52:41 -0500 (Tue, 18 Feb 2025) EndedAt: 2025-02-18 08:54:23 -0500 (Tue, 18 Feb 2025) EllapsedTime: 102.0 seconds RetCode: 0 Status: OK PackageFile: rCGH_1.36.0.zip PackageFileSize: 4.776 <A href="http://en.wikipedia.org/wiki/MiB" target="_blank">MiB</A>