Package: rCGH Version: 1.36.0 Command: F:\biocbuild\bbs-3.20-bioc\R\bin\R.exe CMD INSTALL rCGH StartedAt: 2025-02-03 17:02:04 -0500 (Mon, 03 Feb 2025) EndedAt: 2025-02-03 17:03:29 -0500 (Mon, 03 Feb 2025) EllapsedTime: 85.3 seconds RetCode: 0 Status: OK