Package: rCGH Version: 1.36.0 Command: /home/biocbuild/R/R/bin/R CMD check --install=check:rCGH.install-out.txt --library=/home/biocbuild/R/R/site-library --no-vignettes --timings rCGH_1.36.0.tar.gz StartedAt: 2025-02-04 10:15:18 -0000 (Tue, 04 Feb 2025) EndedAt: 2025-02-04 10:23:16 -0000 (Tue, 04 Feb 2025) EllapsedTime: 477.8 seconds RetCode: 0 Status: OK CheckDir: rCGH.Rcheck Warnings: 0