Package: rCGH Version: 1.36.0 Command: /home/biocbuild/R/R/bin/R CMD INSTALL rCGH StartedAt: 2025-02-03 21:09:47 -0000 (Mon, 03 Feb 2025) EndedAt: 2025-02-03 21:10:45 -0000 (Mon, 03 Feb 2025) EllapsedTime: 57.9 seconds RetCode: 0 Status: OK