Package: rDGIdb Version: 1.32.0 Command: /Library/Frameworks/R.framework/Resources/bin/R CMD build --keep-empty-dirs --no-resave-data rDGIdb StartedAt: 2025-02-03 21:36:15 -0500 (Mon, 03 Feb 2025) EndedAt: 2025-02-03 21:36:43 -0500 (Mon, 03 Feb 2025) EllapsedTime: 28.3 seconds RetCode: 1 Status: ERROR PackageFile: None PackageFileSize: NA